BEGIN:VCALENDAR
VERSION:2.0
PRODID:-//Del&#039;s Garden Center - ECPv6.15.20//NONSGML v1.0//EN
CALSCALE:GREGORIAN
METHOD:PUBLISH
X-ORIGINAL-URL:https://delsgarden.com
X-WR-CALDESC:Events for Del&#039;s Garden Center
REFRESH-INTERVAL;VALUE=DURATION:PT1H
X-Robots-Tag:noindex
X-PUBLISHED-TTL:PT1H
BEGIN:VTIMEZONE
TZID:America/Chicago
BEGIN:DAYLIGHT
TZOFFSETFROM:-0600
TZOFFSETTO:-0500
TZNAME:CDT
DTSTART:20240310T080000
END:DAYLIGHT
BEGIN:STANDARD
TZOFFSETFROM:-0500
TZOFFSETTO:-0600
TZNAME:CST
DTSTART:20241103T070000
END:STANDARD
BEGIN:DAYLIGHT
TZOFFSETFROM:-0600
TZOFFSETTO:-0500
TZNAME:CDT
DTSTART:20250309T080000
END:DAYLIGHT
BEGIN:STANDARD
TZOFFSETFROM:-0500
TZOFFSETTO:-0600
TZNAME:CST
DTSTART:20251102T070000
END:STANDARD
BEGIN:DAYLIGHT
TZOFFSETFROM:-0600
TZOFFSETTO:-0500
TZNAME:CDT
DTSTART:20260308T080000
END:DAYLIGHT
BEGIN:STANDARD
TZOFFSETFROM:-0500
TZOFFSETTO:-0600
TZNAME:CST
DTSTART:20261101T070000
END:STANDARD
END:VTIMEZONE
BEGIN:VEVENT
DTSTART;TZID=America/Chicago:20250308T100000
DTEND;TZID=America/Chicago:20250308T130000
DTSTAMP:20260422T061809
CREATED:20241216T194248Z
LAST-MODIFIED:20241216T194248Z
UID:259222-1741428000-1741438800@delsgarden.com
SUMMARY:Winter Farmers Market
DESCRIPTION:Offering locally grown\, freshly harvested produce as part of a Winter Market that includes food and craft vendors from the area. Del’s greenhouse is pleased to host weekly indoor events each Saturday from 10am to 1pm through March 2025. Enjoy the warm air\, healthy produce\, local food\, area artisans\, and fellow neighbors as hearty as you!
URL:https://delsgarden.com/event/winter-farmers-market-12/
LOCATION:Del’s\, 1808 11th St SE\, Spencer\, IA\, 51301\, United States
CATEGORIES:Winter Market
END:VEVENT
END:VCALENDAR